BEGIN:VCALENDAR
VERSION:2.0
PRODID: -//Q4 Inc.//EN
METHOD:PUBLISH
BEGIN:VTIMEZONE
TZID:America/New_York
X-LIC-LOCATION:America/New_York
BEGIN:DAYLIGHT
TZOFFSETFROM:-0500
TZOFFSETTO:-0400
TZNAME:EDT
DTSTART:19700308T020000
RRULE:FREQ=YEARLY;BYMONTH=3;BYDAY=2SU
END:DAYLIGHT
BEGIN:STANDARD
TZOFFSETFROM:-0400
TZOFFSETTO:-0500
TZNAME:EST
DTSTART:19701101T020000
RRULE:FREQ=YEARLY;BYMONTH=11;BYDAY=1SU
END:STANDARD
END:VTIMEZONE
BEGIN:VEVENT
ORGANIZER:MAILTO:NVIDIAInvestorRelations@nvidia.com
DTSTART;TZID="America/New_York":20260520T000000
DTEND;TZID="America/New_York":20260520T000000
LOCATION:
UID:3c5ea7e1-7427-4fbe-9c79-adc14324c876
DTSTAMP:20260425T174106
SUMMARY:NVIDIA 1st Quarter FY27 Financial Results
DESCRIPTION: View More Information: https://investor.nvidia.com/events-and-presentations/events-and-presentations/event-details/2026/NVIDIA-1st-Quarter-FY27-Financial-Results/default.aspx
URL;VALUE=URI:https://investor.nvidia.com/events-and-presentations/events-and-presentations/event-details/2026/NVIDIA-1st-Quarter-FY27-Financial-Results/default.aspx
PRIORITY:5
CLASS:PUBLIC
END:VEVENT
END:VCALENDAR
